View In:
ArcGIS JavaScript
ArcGIS Online Map Viewer
ArcGIS Earth
ArcGIS Pro
Service Description:
Map Name: Carte
Legend
All Layers and Tables
Dynamic Legend
Dynamic All Layers
Layers:
Description:
Service Item Id: ab5c2ec8c916413290037643e7b85ab7
Copyright Text:
Spatial Reference:
3943
(3943)
LatestVCSWkid(0)
Single Fused Map Cache: true
Tile Info:
- Height: 256.0
- Width: 256.0
- DPI: 96.0
-
Levels of Detail: 24
-
Level ID: 0
[ Start Tile, End Tile ]
- Resolution: 286279.49146836257
- Scale: 1.0820012275969608E9
-
Level ID: 1
[ Start Tile, End Tile ]
- Resolution: 143139.74573418128
- Scale: 5.410006137984804E8
-
Level ID: 2
[ Start Tile, End Tile ]
- Resolution: 71569.87286709064
- Scale: 2.705003068992402E8
-
Level ID: 3
[ Start Tile, End Tile ]
- Resolution: 35784.93643354532
- Scale: 1.352501534496201E8
-
Level ID: 4
[ Start Tile, End Tile ]
- Resolution: 17892.46821677266
- Scale: 6.762507672481005E7
-
Level ID: 5
[ Start Tile, End Tile ]
- Resolution: 8946.23410838633
- Scale: 3.3812538362405024E7
-
Level ID: 6
[ Start Tile, End Tile ]
- Resolution: 4473.117054193165
- Scale: 1.6906269181202512E7
-
Level ID: 7
[ Start Tile, End Tile ]
- Resolution: 2236.5585270965826
- Scale: 8453134.590601256
-
Level ID: 8
[ Start Tile, End Tile ]
- Resolution: 1118.2792635482913
- Scale: 4226567.295300628
-
Level ID: 9
[ Start Tile, End Tile ]
- Resolution: 559.1396317741456
- Scale: 2113283.647650314
-
Level ID: 10
[ Start Tile, End Tile ]
- Resolution: 279.5698158870728
- Scale: 1056641.823825157
-
Level ID: 11
[ Start Tile, End Tile ]
- Resolution: 139.7849079435364
- Scale: 528320.9119125785
-
Level ID: 12
[ Start Tile, End Tile ]
- Resolution: 69.8924539717682
- Scale: 264160.45595628925
-
Level ID: 13
[ Start Tile, End Tile ]
- Resolution: 34.9462269858841
- Scale: 132080.22797814463
-
Level ID: 14
[ Start Tile, End Tile ]
- Resolution: 17.47311349294205
- Scale: 66040.11398907231
-
Level ID: 15
[ Start Tile, End Tile ]
- Resolution: 8.736556746471026
- Scale: 33020.05699453616
-
Level ID: 16
[ Start Tile, End Tile ]
- Resolution: 4.368278373235513
- Scale: 16510.02849726808
-
Level ID: 17
[ Start Tile, End Tile ]
- Resolution: 2.1841391866177564
- Scale: 8255.01424863404
-
Level ID: 18
[ Start Tile, End Tile ]
- Resolution: 1.0920695933088782
- Scale: 4127.50712431702
-
Level ID: 19
[ Start Tile, End Tile ]
- Resolution: 0.5460347966544391
- Scale: 2063.75356215851
-
Level ID: 20
[ Start Tile, End Tile ]
- Resolution: 0.27301739832721955
- Scale: 1031.876781079255
-
Level ID: 21
[ Start Tile, End Tile ]
- Resolution: 0.13650869916360978
- Scale: 515.9383905396274
-
Level ID: 22
[ Start Tile, End Tile ]
- Resolution: 0.06825434958180489
- Scale: 257.9691952698137
-
Level ID: 23
[ Start Tile, End Tile ]
- Resolution: 0.034127174790902444
- Scale: 128.98459763490686
- Format: Mixed
- Compression Quality: 75.0
- Origin: X: -3.494377490795041E7
Y: 3.7286730694144435E7
- Spatial Reference: 3943
(3943)
LatestVCSWkid(0)
Storage Info:
- Storage Format: esriMapCacheStorageModeCompactV2
- Packet Size: 128
Initial Extent:
XMin: 1537336.5221411877
YMin: 2240214.2719825446
XMax: 1576362.6418600937
YMax: 2266963.7004814013
Spatial Reference: 3943
(3943)
LatestVCSWkid(0)
Full Extent:
XMin: 1539329.092049636
YMin: 2241593.9026323147
XMax: 1573822.392049636
YMax: 2263909.9026323147
Spatial Reference: 3943
(3943)
LatestVCSWkid(0)
Units: esriMeters
Supported Image Format Types: PNG32,PNG24,PNG,JPG,DIB,TIFF,EMF,PS,PDF,GIF,SVG,SVGZ,BMP
Document Info:
Title: Carte
Author:
Comments:
Subject:
Category:
Keywords: Imagerie,Muretain agglo
AntialiasingMode: Fast
TextAntialiasingMode: Force
Supports Dynamic Layers: true
MaxRecordCount: 2000
MaxSelectionCount: 2000
MaxImageHeight: 4096
MaxImageWidth: 4096
Supported Query Formats: JSON, geoJSON, PBF
Supports Query Data Elements: true
Min Scale: 264160.45595628925
Max Scale: 515.9383905396274
Min LOD: 12
Max LOD: 21
Supports Datum Transformation: true
Child Resources:
Info
Dynamic Layer
Supported Operations:
Export Map
Identify
QueryLegends
QueryDomains
Find
Return Updates