{
 "currentVersion": 11.5,
 "cimVersion": "3.5.0",
 "serviceDescription": "",
 "mapName": "Carte",
 "description": "",
 "copyrightText": "",
 "supportsDynamicLayers": true,
 "layers": [
  {
   "id": 0,
   "name": "Ortho_2025",
   "parentLayerId": -1,
   "defaultVisibility": true,
   "subLayerIds": null,
   "minScale": 0,
   "maxScale": 0,
   "type": "Raster Layer",
   "supportsDynamicLegends": true
  }
 ],
 "tables": [],
 "spatialReference": {
  "wkid": 3943,
  "latestWkid": 3943,
  "xyTolerance": 0.001,
  "zTolerance": 0.001,
  "mTolerance": 0.001,
  "falseX": -34943900,
  "falseY": -27594300,
  "xyUnits": 10000,
  "falseZ": -100000,
  "zUnits": 10000,
  "falseM": -100000,
  "mUnits": 10000
 },
 "singleFusedMapCache": true,
 "tileInfo": {
  "rows": 256,
  "cols": 256,
  "dpi": 96,
  "format": "Mixed",
  "compressionQuality": 75,
  "origin": {
   "x": -3.494377490795041E7,
   "y": 3.7286730694144435E7
  },
  "spatialReference": {
   "wkid": 3943,
   "latestWkid": 3943,
   "xyTolerance": 0.001,
   "zTolerance": 0.001,
   "mTolerance": 0.001,
   "falseX": -34943900,
   "falseY": -27594300,
   "xyUnits": 10000,
   "falseZ": -100000,
   "zUnits": 10000,
   "falseM": -100000,
   "mUnits": 10000
  },
  "lods": [
   {
    "level": 0,
    "resolution": 286279.49146836257,
    "scale": 1.0820012275969608E9
   },
   {
    "level": 1,
    "resolution": 143139.74573418128,
    "scale": 5.410006137984804E8
   },
   {
    "level": 2,
    "resolution": 71569.87286709064,
    "scale": 2.705003068992402E8
   },
   {
    "level": 3,
    "resolution": 35784.93643354532,
    "scale": 1.352501534496201E8
   },
   {
    "level": 4,
    "resolution": 17892.46821677266,
    "scale": 6.762507672481005E7
   },
   {
    "level": 5,
    "resolution": 8946.23410838633,
    "scale": 3.3812538362405024E7
   },
   {
    "level": 6,
    "resolution": 4473.117054193165,
    "scale": 1.6906269181202512E7
   },
   {
    "level": 7,
    "resolution": 2236.5585270965826,
    "scale": 8453134.590601256
   },
   {
    "level": 8,
    "resolution": 1118.2792635482913,
    "scale": 4226567.295300628
   },
   {
    "level": 9,
    "resolution": 559.1396317741456,
    "scale": 2113283.647650314
   },
   {
    "level": 10,
    "resolution": 279.5698158870728,
    "scale": 1056641.823825157
   },
   {
    "level": 11,
    "resolution": 139.7849079435364,
    "scale": 528320.9119125785
   },
   {
    "level": 12,
    "resolution": 69.8924539717682,
    "scale": 264160.45595628925
   },
   {
    "level": 13,
    "resolution": 34.9462269858841,
    "scale": 132080.22797814463
   },
   {
    "level": 14,
    "resolution": 17.47311349294205,
    "scale": 66040.11398907231
   },
   {
    "level": 15,
    "resolution": 8.736556746471026,
    "scale": 33020.05699453616
   },
   {
    "level": 16,
    "resolution": 4.368278373235513,
    "scale": 16510.02849726808
   },
   {
    "level": 17,
    "resolution": 2.1841391866177564,
    "scale": 8255.01424863404
   },
   {
    "level": 18,
    "resolution": 1.0920695933088782,
    "scale": 4127.50712431702
   },
   {
    "level": 19,
    "resolution": 0.5460347966544391,
    "scale": 2063.75356215851
   },
   {
    "level": 20,
    "resolution": 0.27301739832721955,
    "scale": 1031.876781079255
   },
   {
    "level": 21,
    "resolution": 0.13650869916360978,
    "scale": 515.9383905396274
   },
   {
    "level": 22,
    "resolution": 0.06825434958180489,
    "scale": 257.9691952698137
   },
   {
    "level": 23,
    "resolution": 0.034127174790902444,
    "scale": 128.98459763490686
   }
  ]
 },
 "storageInfo": {
  "storageFormat": "esriMapCacheStorageModeCompactV2",
  "packetSize": 128
 },
 "initialExtent": {
  "xmin": 1537336.5221411877,
  "ymin": 2240214.2719825446,
  "xmax": 1576362.6418600937,
  "ymax": 2266963.7004814013,
  "spatialReference": {
   "wkid": 3943,
   "latestWkid": 3943,
   "xyTolerance": 0.001,
   "zTolerance": 0.001,
   "mTolerance": 0.001,
   "falseX": -34943900,
   "falseY": -27594300,
   "xyUnits": 10000,
   "falseZ": -100000,
   "zUnits": 10000,
   "falseM": -100000,
   "mUnits": 10000
  }
 },
 "fullExtent": {
  "xmin": 1539329.092049636,
  "ymin": 2241593.9026323147,
  "xmax": 1573822.392049636,
  "ymax": 2263909.9026323147,
  "spatialReference": {
   "wkid": 3943,
   "latestWkid": 3943,
   "xyTolerance": 0.001,
   "zTolerance": 0.001,
   "mTolerance": 0.001,
   "falseX": -34943900,
   "falseY": -27594300,
   "xyUnits": 10000,
   "falseZ": -100000,
   "zUnits": 10000,
   "falseM": -100000,
   "mUnits": 10000
  }
 },
 "datesInUnknownTimezone": false,
 "minScale": 264160.45595628925,
 "maxScale": 515.9383905396274,
 "minLOD": 12,
 "maxLOD": 21,
 "units": "esriMeters",
 "supportedImageFormatTypes": "PNG32,PNG24,PNG,JPG,DIB,TIFF,EMF,PS,PDF,GIF,SVG,SVGZ,BMP",
 "documentInfo": {
  "Title": "Carte",
  "Author": "",
  "Comments": "",
  "Subject": "",
  "Category": "",
  "Version": "3.5.0",
  "AntialiasingMode": "Fast",
  "TextAntialiasingMode": "Force",
  "Keywords": "Imagerie,Muretain agglo"
 },
 "supportsQueryDomains": true,
 "capabilities": "Query,Map,Data,TileMap",
 "supportedQueryFormats": "JSON, geoJSON, PBF",
 "exportTilesAllowed": false,
 "referenceScale": 0.0,
 "datumTransformations": [
  {
   "geoTransforms": [
    {
     "wkid": 1671,
     "latestWkid": 1671,
     "transformForward": false,
     "name": "RGF_1993_To_WGS_1984_1"
    }
   ]
  },
  {
   "geoTransforms": [
    {
     "wkid": 1671,
     "latestWkid": 1671,
     "transformForward": true,
     "name": "RGF_1993_To_WGS_1984_1"
    }
   ]
  }
 ],
 "supportsDatumTransformation": true,
 "archivingInfo": {
  "supportsHistoricMoment": false
 },
 "supportsClipping": true,
 "supportsSpatialFilter": true,
 "supportsTimeRelation": true,
 "supportsQueryDataElements": true,
 "mapUnits": {
  "uwkid": 9001
 },
 "maxSelectionCount": 2000,
 "maxRecordCount": 2000,
 "maxImageHeight": 4096,
 "maxImageWidth": 4096,
 "supportedExtensions": "WMSServer",
 "serviceItemId": "ab5c2ec8c916413290037643e7b85ab7"
}
